BEGIN:VCALENDAR
VERSION:2.0
PRODID:SchoolNow
CALSCALE:GREGORIAN
BEGIN:VEVENT
UID:96f32a92-a5e4-11f0-8c1a-0a58a9feac02
DTSTAMP:20251010T142245Z
SUMMARY:DMS School Dance
URL;VALUE=URI:https://www.dickinson.k12.nd.us/schools/roughrider-k-8-virtua
 l-academy/calendar/8711364/dms-school-dance
DTSTART:20251025T010000Z
DTEND:20251025T030000Z
END:VEVENT
END:VCALENDAR
