BEGIN:VCALENDAR
VERSION:2.0
PRODID:SchoolNow
CALSCALE:GREGORIAN
BEGIN:VEVENT
UID:9b7e79ea-9955-11f0-9789-0a58a9feac02
DTSTAMP:20250924T144900Z
SUMMARY:PAC Meeting- April
LOCATION:Google Meet
URL;VALUE=URI:https://www.dickinson.k12.nd.us/schools/roughrider-k-8-virtua
 l-academy/calendar/8659530/pac-meeting-september-clone
DTSTART:20260415T190000Z
DTEND:20260415T193000Z
END:VEVENT
END:VCALENDAR
