BEGIN:VCALENDAR
VERSION:2.0
PRODID:SchoolNow
CALSCALE:GREGORIAN
BEGIN:VEVENT
UID:90a35b94-9955-11f0-97dc-023d67bb3955
DTSTAMP:20250924T144842Z
SUMMARY:PAC Meeting- March
LOCATION:Google Meet
URL;VALUE=URI:https://www.dickinson.k12.nd.us/schools/roughrider-k-8-virtua
 l-academy/calendar/8659529/pac-meeting-september-clone
DTSTART:20260318T190000Z
DTEND:20260318T193000Z
END:VEVENT
END:VCALENDAR
