BEGIN:VCALENDAR
VERSION:2.0
PRODID:SchoolNow
CALSCALE:GREGORIAN
BEGIN:VEVENT
UID:87175710-9955-11f0-9a6c-0256aee05833
DTSTAMP:20250924T144826Z
SUMMARY:PAC Meeting- February
LOCATION:Google Meet
URL;VALUE=URI:https://www.dickinson.k12.nd.us/schools/roughrider-k-8-virtua
 l-academy/calendar/8659528/pac-meeting-september-clone
DTSTART:20260218T200000Z
DTEND:20260218T203000Z
END:VEVENT
END:VCALENDAR
