BEGIN:VCALENDAR
VERSION:2.0
PRODID:SchoolNow
CALSCALE:GREGORIAN
BEGIN:VEVENT
UID:73c96dd8-9955-11f0-b013-0a58a9feac02
DTSTAMP:20250924T144754Z
SUMMARY:PAC Meeting- November
LOCATION:Google Meet
URL;VALUE=URI:https://www.dickinson.k12.nd.us/schools/roughrider-k-8-virtua
 l-academy/calendar/8659526/pac-meeting-september-clone
DTSTART:20251112T200000Z
DTEND:20251112T203000Z
END:VEVENT
END:VCALENDAR
