BEGIN:VCALENDAR
VERSION:2.0
PRODID:SchoolNow
CALSCALE:GREGORIAN
BEGIN:VEVENT
UID:659ce898-9955-11f0-8d89-0256aee05833
DTSTAMP:20250924T144730Z
SUMMARY:PAC Meeting- October
LOCATION:Google Meet
URL;VALUE=URI:https://www.dickinson.k12.nd.us/schools/roughrider-k-8-virtua
 l-academy/calendar/8659525/pac-meeting-september-clone
DTSTART:20251022T190000Z
DTEND:20251022T193000Z
END:VEVENT
END:VCALENDAR
