BEGIN:VCALENDAR
VERSION:2.0
PRODID:SchoolNow
CALSCALE:GREGORIAN
BEGIN:VEVENT
UID:58d02738-9955-11f0-96c6-0a58a9feac02
DTSTAMP:20250924T144708Z
SUMMARY:PAC Meeting- September
LOCATION:Google Meet
URL;VALUE=URI:https://www.dickinson.k12.nd.us/schools/roughrider-k-8-virtua
 l-academy/calendar/8659524/pac-meeting-september
DTSTART:20250924T190000Z
DTEND:20250924T193000Z
END:VEVENT
END:VCALENDAR
