BEGIN:VCALENDAR
VERSION:2.0
PRODID:SchoolNow
CALSCALE:GREGORIAN
BEGIN:VEVENT
UID:f8a8d1dc-93f7-11f0-9364-0a58a9feac02
DTSTAMP:20250917T185608Z
SUMMARY:Inservice (No School)
URL;VALUE=URI:https://www.dickinson.k12.nd.us/schools/roughrider-k-8-virtua
 l-academy/calendar/8633194/inservice-no-school
DTSTART;VALUE=DATE:20250929
DTEND;VALUE=DATE:20250930
END:VEVENT
END:VCALENDAR
