BEGIN:VCALENDAR
VERSION:2.0
PRODID:SchoolNow
CALSCALE:GREGORIAN
BEGIN:VEVENT
UID:36965418-8e7d-11f0-96b1-0a58a9feac02
DTSTAMP:20250910T193448Z
SUMMARY:Fall: District Assessments
LOCATION:Dickinson Middle School
URL;VALUE=URI:https://www.dickinson.k12.nd.us/schools/roughrider-k-8-virtua
 l-academy/calendar/8606365/fall-district-assessments
DTSTART:20250903T150000Z
DTEND:20250903T173000Z
END:VEVENT
END:VCALENDAR
