BEGIN:VCALENDAR
VERSION:2.0
PRODID:SchoolNow
CALSCALE:GREGORIAN
BEGIN:VEVENT
UID:1ea5620e-8e7d-11f0-a4b7-0affefb753e9
DTSTAMP:20250910T193408Z
SUMMARY:Fall ND+ Testing: Reading
LOCATION:Dickinson Middle School
URL;VALUE=URI:https://www.dickinson.k12.nd.us/schools/roughrider-k-8-virtua
 l-academy/calendar/8606364/fall-nd-testing-reading
DTSTART:20250904T150000Z
DTEND:20250904T173000Z
END:VEVENT
END:VCALENDAR
