BEGIN:VCALENDAR
VERSION:2.0
PRODID:SchoolNow
CALSCALE:GREGORIAN
BEGIN:VEVENT
UID:fd0a1fe0-8e7c-11f0-b45b-0a58a9feac02
DTSTAMP:20250910T193325Z
SUMMARY:Fall ND+ Testing: Math
LOCATION:Dickinson Middle School
URL;VALUE=URI:https://www.dickinson.k12.nd.us/schools/roughrider-k-8-virtua
 l-academy/calendar/8606363/fall-nd-testing-math
DTSTART:20250902T150000Z
DTEND:20250902T173000Z
END:VEVENT
END:VCALENDAR
