BEGIN:VCALENDAR
VERSION:2.0
PRODID:SchoolNow
CALSCALE:GREGORIAN
BEGIN:VEVENT
UID:952f9fcc-8e7b-11f0-89ce-0a58a9feac02
DTSTAMP:20250910T192308Z
SUMMARY:Good Friday Holiday (No School)
URL;VALUE=URI:https://www.dickinson.k12.nd.us/schools/roughrider-k-8-virtua
 l-academy/calendar/8606359/good-friday-holiday-no-school
DTSTART;VALUE=DATE:20260403
DTEND;VALUE=DATE:20260404
END:VEVENT
END:VCALENDAR
