BEGIN:VCALENDAR
VERSION:2.0
PRODID:SchoolNow
CALSCALE:GREGORIAN
BEGIN:VEVENT
UID:53b24614-8dbb-11f0-b175-0a58a9feac02
DTSTAMP:20250910T193530Z
SUMMARY:No School
URL;VALUE=URI:https://www.dickinson.k12.nd.us/schools/roughrider-k-8-virtua
 l-academy/calendar/8601920/no-school
DTSTART;VALUE=DATE:20251016
DTEND;VALUE=DATE:20251018
END:VEVENT
END:VCALENDAR
