BEGIN:VCALENDAR
VERSION:2.0
PRODID:SchoolNow
CALSCALE:GREGORIAN
BEGIN:VEVENT
UID:da6fff30-8dba-11f0-907b-0a58a9feac02
DTSTAMP:20250909T202331Z
SUMMARY:Parent Teacher Conferences
LOCATION:Virtual-Google Meet
URL;VALUE=URI:https://www.dickinson.k12.nd.us/schools/roughrider-k-8-virtua
 l-academy/calendar/8601917/parent-teacher-conferences-clone-clone
DTSTART:20260212T224500Z
DTEND:20260213T014500Z
END:VEVENT
END:VCALENDAR
