BEGIN:VCALENDAR
VERSION:2.0
PRODID:SchoolNow
CALSCALE:GREGORIAN
BEGIN:VEVENT
UID:d33751a0-8dba-11f0-9d5d-0a58a9feac02
DTSTAMP:20250909T202319Z
SUMMARY:Parent Teacher Conferences
LOCATION:Virtual-Google Meet
URL;VALUE=URI:https://www.dickinson.k12.nd.us/schools/roughrider-k-8-virtua
 l-academy/calendar/8601916/parent-teacher-conferences-clone
DTSTART:20260211T224500Z
DTEND:20260212T014500Z
END:VEVENT
END:VCALENDAR
