BEGIN:VCALENDAR
VERSION:2.0
PRODID:SchoolNow
CALSCALE:GREGORIAN
BEGIN:VEVENT
UID:ca52cee8-8dba-11f0-8c69-0ee2387fc54b
DTSTAMP:20250909T202304Z
SUMMARY:Parent Teacher Conferences
LOCATION:Virtual-Google Meet
URL;VALUE=URI:https://www.dickinson.k12.nd.us/schools/roughrider-k-8-virtua
 l-academy/calendar/8601915/parent-teacher-conferences-clone
DTSTART:20251009T214500Z
DTEND:20251010T004500Z
END:VEVENT
END:VCALENDAR
