BEGIN:VCALENDAR
VERSION:2.0
PRODID:SchoolNow
CALSCALE:GREGORIAN
BEGIN:VEVENT
UID:c0d63242-8dba-11f0-9113-0e85b1ffd38d
DTSTAMP:20250909T202248Z
SUMMARY:Parent Teacher Conferences
LOCATION:Virtual-Google Meet
URL;VALUE=URI:https://www.dickinson.k12.nd.us/schools/roughrider-k-8-virtua
 l-academy/calendar/8601914/parent-teacher-conferences
DTSTART:20251008T214500Z
DTEND:20251009T004500Z
END:VEVENT
END:VCALENDAR
