BEGIN:VCALENDAR
VERSION:2.0
PRODID:SchoolNow
CALSCALE:GREGORIAN
BEGIN:VEVENT
UID:12c7c72e-8dba-11f0-8a91-0a58a9feac02
DTSTAMP:20250909T201756Z
SUMMARY:Inservice Day (No School)
URL;VALUE=URI:https://www.dickinson.k12.nd.us/schools/roughrider-k-8-virtua
 l-academy/calendar/8601910/inservice-day-no-school
DTSTART;VALUE=DATE:20250909
DTEND;VALUE=DATE:20250910
END:VEVENT
END:VCALENDAR
