BEGIN:VCALENDAR
VERSION:2.0
PRODID:SchoolNow
CALSCALE:GREGORIAN
BEGIN:VEVENT
UID:f2bfce40-8db9-11f0-8384-0affdf6f3aef
DTSTAMP:20250909T201702Z
SUMMARY:School Picture Retakes
LOCATION:Dickinson Middle School
URL;VALUE=URI:https://www.dickinson.k12.nd.us/schools/roughrider-k-8-virtua
 l-academy/calendar/8601909/school-picture-retakes
DTSTART:20251105T153000Z
DTEND:20251105T191500Z
END:VEVENT
END:VCALENDAR
