BEGIN:VCALENDAR
VERSION:2.0
PRODID:SchoolNow
CALSCALE:GREGORIAN
BEGIN:VEVENT
UID:d07ee5aa-8db9-11f0-b5b1-0e014a268f33
DTSTAMP:20250909T201605Z
SUMMARY:Grades 3-8 ND+ science/retakes
LOCATION:Dickinson Middle School
URL;VALUE=URI:https://www.dickinson.k12.nd.us/schools/roughrider-k-8-virtua
 l-academy/calendar/8601908/grades-3-8-nd-science-retakes
DTSTART:20260430T150000Z
DTEND:20260430T173000Z
END:VEVENT
END:VCALENDAR
