BEGIN:VCALENDAR
VERSION:2.0
PRODID:SchoolNow
CALSCALE:GREGORIAN
BEGIN:VEVENT
UID:98f4a9bc-8db9-11f0-98c8-0affcd4a0a03
DTSTAMP:20250909T201432Z
SUMMARY:Spring ND+ Testing- Reading
LOCATION:Dickinson Middle School
URL;VALUE=URI:https://www.dickinson.k12.nd.us/schools/roughrider-k-8-virtua
 l-academy/calendar/8601907/spring-nd-testing-reading
DTSTART:20260429T150000Z
DTEND:20260429T173000Z
END:VEVENT
END:VCALENDAR
