BEGIN:VCALENDAR
VERSION:2.0
PRODID:SchoolNow
CALSCALE:GREGORIAN
BEGIN:VEVENT
UID:85ce83f8-8db9-11f0-bb36-0a58a9feac02
DTSTAMP:20250909T201400Z
SUMMARY:Spring ND+ testing-Math
LOCATION:Dickinson Middle School
URL;VALUE=URI:https://www.dickinson.k12.nd.us/schools/roughrider-k-8-virtua
 l-academy/calendar/8601906/spring-nd-testing-math
DTSTART:20260428T150000Z
DTEND:20260428T173000Z
END:VEVENT
END:VCALENDAR
