BEGIN:VCALENDAR
VERSION:2.0
PRODID:SchoolNow
CALSCALE:GREGORIAN
BEGIN:VEVENT
UID:6dac9e22-8db9-11f0-abed-0a58a9feac02
DTSTAMP:20250909T201319Z
SUMMARY:Winter- ND+ Testing-Reading
LOCATION:Dickinson Middle School
URL;VALUE=URI:https://www.dickinson.k12.nd.us/schools/roughrider-k-8-virtua
 l-academy/calendar/8601905/winter-nd-testing-reading
DTSTART:20251217T160000Z
DTEND:20251217T183000Z
END:VEVENT
END:VCALENDAR
