BEGIN:VCALENDAR
VERSION:2.0
PRODID:SchoolNow
CALSCALE:GREGORIAN
BEGIN:VEVENT
UID:563f39de-8db9-11f0-9c2c-0a58a9feac02
DTSTAMP:20250909T201240Z
SUMMARY:Winter ND+ Testing-Math
LOCATION:Dickinson Middle School
URL;VALUE=URI:https://www.dickinson.k12.nd.us/schools/roughrider-k-8-virtua
 l-academy/calendar/8601904/winter-nd-testing-math
DTSTART:20251216T160000Z
DTEND:20251216T183000Z
END:VEVENT
END:VCALENDAR
