BEGIN:VCALENDAR
VERSION:2.0
PRODID:SchoolNow
CALSCALE:GREGORIAN
BEGIN:VEVENT
UID:36ea5f8c-8db9-11f0-b732-0e014a268f33
DTSTAMP:20250909T201147Z
SUMMARY:End of Year Bash
LOCATION:Dickinson Middle School
URL;VALUE=URI:https://www.dickinson.k12.nd.us/schools/roughrider-k-8-virtua
 l-academy/calendar/8601903/end-of-year-bash
DTSTART:20260520T150000Z
DTEND:20260520T173000Z
END:VEVENT
END:VCALENDAR
