BEGIN:VCALENDAR
VERSION:2.0
PRODID:SchoolNow
CALSCALE:GREGORIAN
BEGIN:VEVENT
UID:2115658a-8db9-11f0-9498-0ee2387fc54b
DTSTAMP:20250909T201111Z
SUMMARY:April Theme Day
LOCATION:Dickinson Middle School
URL;VALUE=URI:https://www.dickinson.k12.nd.us/schools/roughrider-k-8-virtua
 l-academy/calendar/8601902/april-theme-day
DTSTART:20260422T150000Z
DTEND:20260422T173000Z
END:VEVENT
END:VCALENDAR
