BEGIN:VCALENDAR
VERSION:2.0
PRODID:SchoolNow
CALSCALE:GREGORIAN
BEGIN:VEVENT
UID:0c956a7e-8db9-11f0-8234-0a58a9feac02
DTSTAMP:20250909T201036Z
SUMMARY:March Theme Day
LOCATION:Dickinson Middle School
URL;VALUE=URI:https://www.dickinson.k12.nd.us/schools/roughrider-k-8-virtua
 l-academy/calendar/8601901/march-theme-day
DTSTART:20260325T150000Z
DTEND:20260325T173000Z
END:VEVENT
END:VCALENDAR
