BEGIN:VCALENDAR
VERSION:2.0
PRODID:SchoolNow
CALSCALE:GREGORIAN
BEGIN:VEVENT
UID:f97c4dfe-8db8-11f0-8c88-0ee2387fc54b
DTSTAMP:20250909T201004Z
SUMMARY:February Theme Day
LOCATION:Dickinson Middle School
URL;VALUE=URI:https://www.dickinson.k12.nd.us/schools/roughrider-k-8-virtua
 l-academy/calendar/8601886/february-theme-day
DTSTART:20260225T160000Z
DTEND:20260225T183000Z
END:VEVENT
END:VCALENDAR
