BEGIN:VCALENDAR
VERSION:2.0
PRODID:SchoolNow
CALSCALE:GREGORIAN
BEGIN:VEVENT
UID:e827955e-8db8-11f0-94bf-02d2225c000b
DTSTAMP:20250909T200935Z
SUMMARY:December Theme Day
LOCATION:Dickinson Middle School
URL;VALUE=URI:https://www.dickinson.k12.nd.us/schools/roughrider-k-8-virtua
 l-academy/calendar/8601885/december-theme-day
DTSTART:20251218T160000Z
DTEND:20251218T183000Z
END:VEVENT
END:VCALENDAR
