BEGIN:VCALENDAR
VERSION:2.0
PRODID:SchoolNow
CALSCALE:GREGORIAN
BEGIN:VEVENT
UID:89b97898-8db8-11f0-a07f-0a58a9feac02
DTSTAMP:20250909T200657Z
SUMMARY:October Theme Day
LOCATION:Dickinson Middle School
URL;VALUE=URI:https://www.dickinson.k12.nd.us/schools/roughrider-k-8-virtua
 l-academy/calendar/8601883/october-theme-day
DTSTART:20251029T150000Z
DTEND:20251029T173000Z
END:VEVENT
END:VCALENDAR
