BEGIN:VCALENDAR
VERSION:2.0
PRODID:SchoolNow
CALSCALE:GREGORIAN
BEGIN:VEVENT
UID:7f139fc8-7476-11f0-9167-0a58a9feac02
DTSTAMP:20250808T164222Z
SUMMARY:Open House
URL;VALUE=URI:https://www.dickinson.k12.nd.us/schools/roughrider-k-8-virtua
 l-academy/calendar/8482972/open-house
DTSTART:20250812T223000Z
DTEND:20250813T000000Z
END:VEVENT
END:VCALENDAR
