BEGIN:VCALENDAR
VERSION:2.0
PRODID:SchoolNow
CALSCALE:GREGORIAN
BEGIN:VEVENT
UID:fc08e212-8a7a-11f0-8094-0ee2387fc54b
DTSTAMP:20250905T170913Z
SUMMARY:Easter Bingo
URL;VALUE=URI:https://www.dickinson.k12.nd.us/schools/roosevelt/calendar/85
 84832/easter-bingo
DTSTART:20260402T180000Z
DTEND:20260402T210000Z
END:VEVENT
END:VCALENDAR
