BEGIN:VCALENDAR
VERSION:2.0
PRODID:SchoolNow
CALSCALE:GREGORIAN
BEGIN:VEVENT
UID:1419fbb4-8a42-11ef-88bb-0ef4d51c0acb
DTSTAMP:20241014T153628Z
SUMMARY:Roosevelt Halloween Food Drive
URL;VALUE=URI:https://www.dickinson.k12.nd.us/schools/roosevelt/calendar/68
 22906/roosevelt-halloween-food-drive
DTSTART;VALUE=DATE:20241031
DTEND;VALUE=DATE:20241101
ATTACH;FILENAME=;FMTTYPE=application/octet-stream:
END:VEVENT
END:VCALENDAR
