BEGIN:VCALENDAR
VERSION:2.0
PRODID:SchoolNow
CALSCALE:GREGORIAN
BEGIN:VEVENT
UID:318f263c-7530-11ef-8593-0a58a9feac02
DTSTAMP:20240917T200532Z
SUMMARY:Roosevelt Book Fair
URL;VALUE=URI:https://www.dickinson.k12.nd.us/schools/roosevelt/calendar/66
 28239/roosevelt-book-fair
DTSTART;VALUE=DATE:20241007
DTEND;VALUE=DATE:20241012
END:VEVENT
END:VCALENDAR
