BEGIN:VCALENDAR
VERSION:2.0
PRODID:SchoolNow
CALSCALE:GREGORIAN
BEGIN:VEVENT
UID:772d5948-707b-11ef-85fe-0a58a9feac02
DTSTAMP:20240911T202145Z
SUMMARY:PAC Meeting
URL;VALUE=URI:https://www.dickinson.k12.nd.us/schools/roosevelt/calendar/65
 80483/pac-meeting
DTSTART:20241009T180000Z
DTEND:20241009T190000Z
END:VEVENT
END:VCALENDAR
