BEGIN:VCALENDAR
VERSION:2.0
PRODID:SchoolNow
CALSCALE:GREGORIAN
BEGIN:VEVENT
UID:d9f73bfa-4e8b-11ef-a9e8-0a58a9feac02
DTSTAMP:20240730T155323Z
SUMMARY:Elementary Open House
URL;VALUE=URI:https://www.dickinson.k12.nd.us/schools/roosevelt/calendar/63
 29497/elementary-open-house
DTSTART:20240820T230000Z
DTEND:20240821T000000Z
END:VEVENT
END:VCALENDAR
