BEGIN:VCALENDAR
VERSION:2.0
PRODID:SchoolNow
CALSCALE:GREGORIAN
BEGIN:VEVENT
UID:c2014924-ba10-11ee-ba65-0a58a9feac02
DTSTAMP:20240123T165923Z
SUMMARY:Scholastic Book Fair
URL;VALUE=URI:https://www.dickinson.k12.nd.us/schools/roosevelt/calendar/51
 98555/scholastic-book-fair
DTSTART;VALUE=DATE:20240130
DTEND;VALUE=DATE:20240202
END:VEVENT
END:VCALENDAR
