BEGIN:VCALENDAR
VERSION:2.0
PRODID:SchoolNow
CALSCALE:GREGORIAN
BEGIN:VEVENT
UID:1e7ae972-7a5f-11ee-a0f7-0ef5175a677f
DTSTAMP:20231103T153904Z
SUMMARY:Report Cards Sent Home!
URL;VALUE=URI:https://www.dickinson.k12.nd.us/schools/roosevelt/calendar/49
 24864/report-cards-sent-home
DTSTART;VALUE=DATE:20231127
DTEND;VALUE=DATE:20231128
END:VEVENT
END:VCALENDAR
