BEGIN:VCALENDAR
VERSION:2.0
PRODID:SchoolNow
CALSCALE:GREGORIAN
BEGIN:VEVENT
UID:06adf104-7a5f-11ee-9be9-0e726749065f
DTSTAMP:20231103T153824Z
SUMMARY:American Education Week!
URL;VALUE=URI:https://www.dickinson.k12.nd.us/schools/roosevelt/calendar/49
 24863/american-education-week
DTSTART:20231113T150000Z
DTEND:20231117T220500Z
END:VEVENT
END:VCALENDAR
