BEGIN:VCALENDAR
VERSION:2.0
PRODID:SchoolNow
CALSCALE:GREGORIAN
BEGIN:VEVENT
UID:affd0b42-7a5e-11ee-b341-0ef5175a677f
DTSTAMP:20231103T153559Z
SUMMARY:PAC Meeting at 12pm!
URL;VALUE=URI:https://www.dickinson.k12.nd.us/schools/roosevelt/calendar/49
 24862/pac-meeting-at-12pm
DTSTART;VALUE=DATE:20231108
DTEND;VALUE=DATE:20231109
END:VEVENT
END:VCALENDAR
