BEGIN:VCALENDAR
VERSION:2.0
PRODID:SchoolNow
CALSCALE:GREGORIAN
BEGIN:VEVENT
UID:75bd8934-6c67-11ee-b706-0a58a9feac02
DTSTAMP:20231016T210330Z
SUMMARY:School Bond Referendum
URL;VALUE=URI:https://www.dickinson.k12.nd.us/schools/roosevelt/calendar/48
 71521/school-bond-referendum
DTSTART:20231024T130000Z
DTEND:20231025T010000Z
END:VEVENT
END:VCALENDAR
