BEGIN:VCALENDAR
VERSION:2.0
PRODID:SchoolNow
CALSCALE:GREGORIAN
BEGIN:VEVENT
UID:cee06d52-62e8-11ee-bff6-0a58a9feac02
DTSTAMP:20231004T190413Z
SUMMARY:Happy Valentine's Day!
URL;VALUE=URI:https://www.dickinson.k12.nd.us/schools/roosevelt/calendar/48
 31534/happy-valentines-day
DTSTART;VALUE=DATE:20240214
DTEND;VALUE=DATE:20240215
END:VEVENT
END:VCALENDAR
