BEGIN:VCALENDAR
VERSION:2.0
PRODID:SchoolNow
CALSCALE:GREGORIAN
BEGIN:VEVENT
UID:88657228-62e8-11ee-bb5b-0ad667a00cbf
DTSTAMP:20231004T190215Z
SUMMARY:Merry Christmas!
URL;VALUE=URI:https://www.dickinson.k12.nd.us/schools/roosevelt/calendar/48
 31532/merry-christmas
DTSTART;VALUE=DATE:20231225
DTEND;VALUE=DATE:20231226
END:VEVENT
END:VCALENDAR
