BEGIN:VCALENDAR
VERSION:2.0
PRODID:SchoolNow
CALSCALE:GREGORIAN
BEGIN:VEVENT
UID:7214e49a-62e8-11ee-9aca-02a47dd764a3
DTSTAMP:20231004T190138Z
SUMMARY:Welcome Back!
URL;VALUE=URI:https://www.dickinson.k12.nd.us/schools/roosevelt/calendar/48
 31530/welcome-back
DTSTART;VALUE=DATE:20240102
DTEND;VALUE=DATE:20240103
END:VEVENT
END:VCALENDAR
