BEGIN:VCALENDAR
VERSION:2.0
PRODID:SchoolNow
CALSCALE:GREGORIAN
BEGIN:VEVENT
UID:ff19972e-62e7-11ee-ab88-0ac5ad864e25
DTSTAMP:20231004T185825Z
SUMMARY:Happy Halloween!
URL;VALUE=URI:https://www.dickinson.k12.nd.us/schools/roosevelt/calendar/48
 31526/happy-halloween
DTSTART;VALUE=DATE:20231031
DTEND;VALUE=DATE:20231101
END:VEVENT
END:VCALENDAR
