BEGIN:VCALENDAR
VERSION:2.0
PRODID:SchoolNow
CALSCALE:GREGORIAN
BEGIN:VEVENT
UID:d9721916-622d-11ee-a442-0e054e7646b7
DTSTAMP:20231003T204555Z
SUMMARY:3rd Grade Music Concert!
URL;VALUE=URI:https://www.dickinson.k12.nd.us/schools/roosevelt/calendar/48
 27712/3rd-grade-music-concert
DTSTART:20231208T020000Z
DTEND:20231208T030000Z
END:VEVENT
END:VCALENDAR
