BEGIN:VCALENDAR
VERSION:2.0
PRODID:SchoolNow
CALSCALE:GREGORIAN
BEGIN:VEVENT
UID:abbf1118-622d-11ee-9153-02a47dd764a3
DTSTAMP:20231003T204438Z
SUMMARY:5th Grade Music Program!
URL;VALUE=URI:https://www.dickinson.k12.nd.us/schools/roosevelt/calendar/48
 27711/5th-grade-music-program
DTSTART:20231201T020000Z
DTEND:20231201T030000Z
END:VEVENT
END:VCALENDAR
