BEGIN:VCALENDAR
VERSION:2.0
PRODID:SchoolNow
CALSCALE:GREGORIAN
BEGIN:VEVENT
UID:67e210c6-622d-11ee-b865-0a58a9feac02
DTSTAMP:20231003T204245Z
SUMMARY:Theodore Roosevelt's Birthday!
URL;VALUE=URI:https://www.dickinson.k12.nd.us/schools/roosevelt/calendar/48
 27710/theodore-roosevelts-birthday
DTSTART;VALUE=DATE:20231027
DTEND;VALUE=DATE:20231028
END:VEVENT
END:VCALENDAR
