BEGIN:VCALENDAR
VERSION:2.0
PRODID:SchoolNow
CALSCALE:GREGORIAN
BEGIN:VEVENT
UID:a6e75020-622c-11ee-a87c-0a756eb709e9
DTSTAMP:20231003T203721Z
SUMMARY:National School Lunch Week!
URL;VALUE=URI:https://www.dickinson.k12.nd.us/schools/roosevelt/calendar/48
 27708/national-school-lunch-week
DTSTART:20231009T140000Z
DTEND:20231013T230000Z
END:VEVENT
END:VCALENDAR
