BEGIN:VCALENDAR
VERSION:2.0
PRODID:SchoolNow
CALSCALE:GREGORIAN
BEGIN:VEVENT
UID:709ea482-622c-11ee-bd70-020ff1d80a27
DTSTAMP:20231003T203809Z
SUMMARY:National Fire Prevention Week!
URL;VALUE=URI:https://www.dickinson.k12.nd.us/schools/roosevelt/calendar/48
 27707/national-fire-prevention-week
DTSTART:20231008T140000Z
DTEND:20231014T230000Z
END:VEVENT
END:VCALENDAR
